BEGIN:VCALENDAR
VERSION:2.0
PRODID:-//United Way of Buffalo &amp; Erie County - ECPv6.15.14//NONSGML v1.0//EN
CALSCALE:GREGORIAN
METHOD:PUBLISH
X-WR-CALNAME:United Way of Buffalo &amp; Erie County
X-ORIGINAL-URL:https://www.uwbec.org
X-WR-CALDESC:Events for United Way of Buffalo &amp; Erie County
REFRESH-INTERVAL;VALUE=DURATION:PT1H
X-Robots-Tag:noindex
X-PUBLISHED-TTL:PT1H
BEGIN:VTIMEZONE
TZID:America/New_York
BEGIN:DAYLIGHT
TZOFFSETFROM:-0500
TZOFFSETTO:-0400
TZNAME:EDT
DTSTART:20250309T070000
END:DAYLIGHT
BEGIN:STANDARD
TZOFFSETFROM:-0400
TZOFFSETTO:-0500
TZNAME:EST
DTSTART:20251102T060000
END:STANDARD
BEGIN:DAYLIGHT
TZOFFSETFROM:-0500
TZOFFSETTO:-0400
TZNAME:EDT
DTSTART:20260308T070000
END:DAYLIGHT
BEGIN:STANDARD
TZOFFSETFROM:-0400
TZOFFSETTO:-0500
TZNAME:EST
DTSTART:20261101T060000
END:STANDARD
BEGIN:DAYLIGHT
TZOFFSETFROM:-0500
TZOFFSETTO:-0400
TZNAME:EDT
DTSTART:20270314T070000
END:DAYLIGHT
BEGIN:STANDARD
TZOFFSETFROM:-0400
TZOFFSETTO:-0500
TZNAME:EST
DTSTART:20271107T060000
END:STANDARD
BEGIN:DAYLIGHT
TZOFFSETFROM:-0500
TZOFFSETTO:-0400
TZNAME:EDT
DTSTART:20280312T070000
END:DAYLIGHT
BEGIN:STANDARD
TZOFFSETFROM:-0400
TZOFFSETTO:-0500
TZNAME:EST
DTSTART:20281105T060000
END:STANDARD
END:VTIMEZONE
BEGIN:VEVENT
DTSTART;TZID=America/New_York:20260303T080000
DTEND;TZID=America/New_York:20270209T100000
DTSTAMP:20260425T164941
CREATED:20260115T005528Z
LAST-MODIFIED:20260331T184509Z
UID:1787-1772524800-1802167200@www.uwbec.org
SUMMARY:Executive Edge 2026
DESCRIPTION:Lead with Connection. Influence with Purpose.\nLeading a nonprofit today is more complex than ever. The systems we operate in are in constant flux demanding steady hands\, clear judgment and emotional resilience from those at the helm. Executive Edge creates a confidential space for nonprofit CEOs and executive directors to pause\, think strategically\, and strengthen the leadership habits that sustain both them and their organizations. \nProgram Dates\nMarch 2026 – February 2027 | 10 Monthly Sessions | 8:00 – 10:00 AM\nHybrid Format – Alternating virtual and in-person sessions (no sessions July or August)\nIn-person sessions will take place at United Way of Buffalo & Erie County. Virtual sessions will be held via Zoom. \n*SOLD OUT \nTuesday\, March 3\, 2026 – In person \nTuesday\, April 14\, 2026 – Virtual \nTuesday\, May 12\, 2026 – In person \nTuesday\, June 9\, 2026 – Virtual \nTuesday\, Sept. 8\, 2026 – In person \nTuesday\, Oct. 13\, 2026 – Virtual \nTuesday\, Nov. 10\, 2026 – In person \nTuesday\, Dec. 8\, 2026 –  Virtual \nTuesday\, Jan. 12\, 2027 – Virtual \nTuesday\, Feb. 9\, 2027 – In person
URL:https://www.uwbec.org/event/executive-edge-2026/
LOCATION:United Way of Buffalo & Erie County\, 742 Delaware Ave.\, Buffalo\, NY\, 14209\, United States
END:VEVENT
BEGIN:VEVENT
DTSTART;TZID=America/New_York:20260327T180000
DTEND;TZID=America/New_York:20260327T210000
DTSTAMP:20260425T164941
CREATED:20260211T205157Z
LAST-MODIFIED:20260225T164845Z
UID:1826-1774634400-1774645200@www.uwbec.org
SUMMARY:Meat & Mingle - A Next Generation United Meat Raffle
DESCRIPTION:Join Next Generation United for a fun Western New York style meat raffle – connection\, community\, and friendly competition all in one night. \nMar 27\, 2026 | 6:00 PM\nColumbus Hall\nTickets start at $25 \nEnjoy complimentary beer and wine while supporting United Way of Buffalo & Erie County programs that help ALICE households thrive.
URL:https://www.uwbec.org/event/meat-mingle-a-next-gen-united-meat-raffle/
LOCATION:Columbus Hall\, 2735 Union Road\, Cheektowaga\, NY\, 14227\, United States
END:VEVENT
END:VCALENDAR